BEGIN:VCALENDAR
VERSION:2.0
PRODID:-//Majestri//SmartCal//EN
BEGIN:VEVENT
UID:5202805a7c774cd1815c2dc94c681d2f
DTSTAMP:20260424T140000Z
DTSTART:20260920T040000Z
DTEND:20260920T090000Z
SUMMARY:EOS Celebration 2026!
DESCRIPTION:
END:VEVENT
BEGIN:VEVENT
UID:0e17ec0b7a4b49f59f3b832804064b84
DTSTAMP:20260424T140000Z
DTSTART:20260425T140000Z
DTEND:20260425T140000Z
SUMMARY:U6 Games Start
DESCRIPTION:Training & Games Commence 9am to 10:20am
END:VEVENT
BEGIN:VEVENT
UID:8c449d10e361456384b5edc57f4aab1a
DTSTAMP:20260424T140000Z
DTSTART:20260425T140000Z
DTEND:20260425T140000Z
SUMMARY:U8 Games Start
DESCRIPTION:Due to Anzac Day Public Holiday, game will be played Sunday 8am.
Saturday games will resume 2nd May.
END:VEVENT
BEGIN:VEVENT
UID:90b87861f9494abfbfd1c391a5609e46
DTSTAMP:20260424T140000Z
DTSTART:20260501T140000Z
DTEND:20260501T140000Z
SUMMARY:MINIROOS & U12 Rd 1
DESCRIPTION:
END:VEVENT
BEGIN:VEVENT
UID:349666c9d4db4b9db96716d697de4131
DTSTAMP:20260424T140000Z
DTSTART:20260611T140000Z
DTEND:20260613T140000Z
SUMMARY:UQFC Team Photo Day
DESCRIPTION:Held over 2 weekends 12-14th June & 18-19th July
Teams will be advised day/times closer to the date
END:VEVENT
BEGIN:VEVENT
UID:e559154f56be4c8ba316da73fa4ba7c4
DTSTAMP:20260424T140000Z
DTSTART:20260717T140000Z
DTEND:20260718T140000Z
SUMMARY:UQFC Team Photo Day
DESCRIPTION:Held over 2 weekends 12-14th June & 18-19th July
Teams will be advised day/times closer to the date
END:VEVENT
BEGIN:VEVENT
UID:198a33850fa948b198e956cf1f893ead
DTSTAMP:20260424T140000Z
DTSTART:20260425T220000Z
DTEND:20260426T000000Z
SUMMARY:COLLECTION TIMES - U6-8 Personalised Shirt Order
DESCRIPTION:Junior Clubhouse (145 Fig Tree Pocket Rd, Chapel Hill)
END:VEVENT
BEGIN:VEVENT
UID:d4180cf568384565acdd2195038276f7
DTSTAMP:20260424T140000Z
DTSTART:20260428T073000Z
DTEND:20260428T083000Z
SUMMARY:Shop Opening
DESCRIPTION:BS
END:VEVENT
END:VCALENDAR
